BEGIN:VCALENDAR
VERSION:2.0
PRODID:gruene-fahrenzhausen.de
METHOD:PUBLISH
BEGIN:VTIMEZONE
TZID:Europe/Berlin
X-LIC-LOCATION:Europe/Berlin
BEGIN:DAYLIGHT
TZOFFSETFROM:+0100
TZOFFSETTO:+0200
TZNAME:CEST
DTSTART:19700329T020000
RRULE:FREQ=YEARLY;INTERVAL=1;BYDAY=-1SU;BYMONTH=3
END:DAYLIGHT
BEGIN:STANDARD
TZOFFSETFROM:+0200
TZOFFSETTO:+0100
TZNAME:CET
DTSTART:19701025T030000
RRULE:FREQ=YEARLY;INTERVAL=1;BYDAY=-1SU;BYMONTH=10
END:STANDARD
END:VTIMEZONE
BEGIN:VEVENT
UID:6c3f802de7b28ad9ffdd60e266716b75@gruene-fahrenzhausen.de
URL;VALUE=URI:https://gruene-fahrenzhausen.de/termine/spatenstich-des-neu
 en-rathauses/
LOCATION:Bauplatz neues Rathaus, Fahrenzhausen
SUMMARY:Spatenstich des neuen Rathauses
DESCRIPTION;ALTREP="data:text/html,":
CLASS:PUBLIC
DTSTART;TZID=Europe/Berlin:20260427T100000
DTEND;TZID=Europe/Berlin:20260427T110000
DTSTAMP:20260423T145732
END:VEVENT
END:VCALENDAR