BEGIN:VCALENDAR
VERSION:2.0
PRODID:gruene-fahrenzhausen.de
METHOD:PUBLISH
BEGIN:VTIMEZONE
TZID:Europe/Berlin
X-LIC-LOCATION:Europe/Berlin
BEGIN:DAYLIGHT
TZOFFSETFROM:+0100
TZOFFSETTO:+0200
TZNAME:CEST
DTSTART:19700329T020000
RRULE:FREQ=YEARLY;INTERVAL=1;BYDAY=-1SU;BYMONTH=3
END:DAYLIGHT
BEGIN:STANDARD
TZOFFSETFROM:+0200
TZOFFSETTO:+0100
TZNAME:CET
DTSTART:19701025T030000
RRULE:FREQ=YEARLY;INTERVAL=1;BYDAY=-1SU;BYMONTH=10
END:STANDARD
END:VTIMEZONE
BEGIN:VEVENT
UID:3f9463e3b72152682a23473995364706@gruene-fahrenzhausen.de
URL;VALUE=URI:https://gruene-fahrenzhausen.de/termine/offener-stammtisch-
 8/
LOCATION:
SUMMARY:Offener Stammtisch
DESCRIPTION;ALTREP="data:text/html,%0A%3Cp%3ELust%20auf%20gute%20Gespr%C3
 %A4che%20und%20einen%20konstruktiven%20Austausch%3F%3C%2Fp%3E%0A%0A%0A%0A
 %3Cp%3EDer%20offene%20Stammtisch%20der%20GR%C3%9CNEN%20Fahrenzhausen%2C%2
 0am%20Dienstag%2C%20den%2028.%20April%2C%20ab%2019%20Uhr%2C%20im%20Wirtsh
 aus%20B13%20bietet%20wie%20immer%20eine%20gute%20Gelegenheit%20sich%20in%
 20entspannter%20Atmosph%C3%A4re%20%C3%BCber%20aktuelle%20Themen%20aus%20d
 er%20Gemeinde%20und%20der%20Region%20auszutauschen%2C%20Ideen%20zu%20entw
 ickeln%2C%20konstruktive%20Anregungen%20zu%20geben%20und%20unterschiedlic
 he%20Meinungen%20zu%20diskutieren.%3C%2Fp%3E%0A%0A%0A%0A%3Cp%3EAlle%20Int
 eressierten%20sind%20herzlich%20willkommen%21%3C%2Fp%3E%0A%0A%0A%0A%3Cp%3
 E%3Cstrong%3EWas%3A%20Offener%20Stammtisch%20der%20GR%C3%9CNEN%20Fahrenzh
 ausen%3Cbr%3EWann%3A%20Dienstag%2C%2028.04.2026%2C%2019.00%20Uhr%3Cbr%3EW
 o%3A%20Wirtshaus%20B13%3C%2Fstrong%3E%3C%2Fp%3E%0A":Lust auf gute Gesprä
 che und einen konstruktiven Austausch?\n\nDer offene Stammtisch der GRÜN
 EN Fahrenzhausen\, am Dienstag\, den 28. April\, ab 19 Uhr\, im Wirtshaus
  B13 bietet wie immer eine gute Gelegenheit sich in entspannter Atmosphä
 re über aktuelle Themen aus der Gemeinde und der Region auszutauschen\, 
 Ideen zu entwickeln\, konstruktive Anregungen zu geben und unterschiedlic
 he Meinungen zu diskutieren.\n\nAlle Interessierten sind herzlich willkom
 men!\n\nWas: Offener Stammtisch der GRÜNEN FahrenzhausenWann: Dienstag\,
  28.04.2026\, 19.00 UhrWo: Wirtshaus B13
CLASS:PUBLIC
DTSTART;TZID=Europe/Berlin:20260428T190000
DTEND;TZID=Europe/Berlin:20260428T200000
DTSTAMP:20260424T140946
END:VEVENT
END:VCALENDAR