BEGIN:VCALENDAR
VERSION:2.0
PRODID:gruene-fahrenzhausen.de
METHOD:PUBLISH
BEGIN:VTIMEZONE
TZID:Europe/Berlin
X-LIC-LOCATION:Europe/Berlin
BEGIN:DAYLIGHT
TZOFFSETFROM:+0100
TZOFFSETTO:+0200
TZNAME:CEST
DTSTART:19700329T020000
RRULE:FREQ=YEARLY;INTERVAL=1;BYDAY=-1SU;BYMONTH=3
END:DAYLIGHT
BEGIN:STANDARD
TZOFFSETFROM:+0200
TZOFFSETTO:+0100
TZNAME:CET
DTSTART:19701025T030000
RRULE:FREQ=YEARLY;INTERVAL=1;BYDAY=-1SU;BYMONTH=10
END:STANDARD
END:VTIMEZONE
BEGIN:VEVENT
UID:617c78c2e7604f1fb20268d8fac2113e@gruene-fahrenzhausen.de
URL;VALUE=URI:https://gruene-fahrenzhausen.de/termine/buergerversammlung-
 fahrenzhausen/
LOCATION:Aula der Grundschule, Fahrenzhausen
SUMMARY:Bürgerversammlung Fahrenzhausen
DESCRIPTION;ALTREP="data:text/html,%0A%3Cp%3EAm%20Donnerstag%2C%2023.%20A
 pril%202026%20ab%2019%20Uhr%2C%20l%C3%A4dt%20die%20Gemeinde%20Fahrenzhaus
 en%20B%C3%BCrgerversammlung%20in%20die%20Aula%20der%20Grundschule%20Fahre
 nzhausen%20ein.%20Auf%20der%20Tagesordnung%20steht%3A%3C%2Fp%3E%0A%0A%0A%
 0A%3Cp%3E%3Cstrong%3ERechenschaftsbericht%20der%201.%20B%C3%BCrgermeister
 in%3C%2Fstrong%3E%3C%2Fp%3E%0A%0A%0A%0A%3Cp%3E%3Cstrong%3EKassenbericht%3
 C%2Fstrong%3E%3C%2Fp%3E%0A%0A%0A%0A%3Cp%3E%3Cstrong%3EVerabschiedung%20de
 r%20ausscheidenden%20Mitglieder%20des%20Gemeinderats%3C%2Fstrong%3E%3C%2F
 p%3E%0A%0A%0A%0A%3Cp%3E%3Cstrong%3EFragen%20und%20Anregungen%3C%2Fstrong%
 3E%3C%2Fp%3E%0A%0A%0A%0A%3Cp%3E%3Ca%20href%3D%22https%3A%2F%2Ffahrenzhaus
 en.de%2F2026%2F03%2F25%2Fbuergerversammlung-2026%22%3EDetails%20auf%20der
 %20Homepage%20der%20Gemeinde%20Fahrenzhausen%3C%2Fa%3E%3C%2Fp%3E%0A%0A%0A
 %0A%3Cp%3E%3C%2Fp%3E%0A%0A%0A%0A%3Cp%3E%3C%2Fp%3E%0A":Am Donnerstag\, 23.
  April 2026 ab 19 Uhr\, lädt die Gemeinde Fahrenzhausen Bürgerversammlu
 ng in die Aula der Grundschule Fahrenzhausen ein. Auf der Tagesordnung st
 eht:\n\nRechenschaftsbericht der 1. Bürgermeisterin\n\nKassenbericht\n\n
 Verabschiedung der ausscheidenden Mitglieder des Gemeinderats\n\nFragen u
 nd Anregungen\n\nDetails auf der Homepage der Gemeinde Fahrenzhausen
CLASS:PUBLIC
DTSTART;TZID=Europe/Berlin:20260423T190000
DTEND;TZID=Europe/Berlin:20260423T200000
DTSTAMP:20260423T145215
END:VEVENT
END:VCALENDAR